Workbook

Sheet Sales Segmentation 
B2: Oas - Renerativt Matinkubator | F2: Name:
B3: Sälj Segmenteringsverktyg
B5: Historik / Baskalkyl | U5: Margin exempel (obs margin ≠ markup)
B6: Förra året / period | C6: 2024 | F6: Modelering Instruktioner | H6: Segment 1 | J6: Segment 2 | L6: Segment 3 | N6: Segment 4 | P6: Segment 5 | R6: Segment 6
F7: 1. Beskriva segment själv | H7: Grossist + Mataffärer | J7: Direct till Ica Nära | L7: Mylla | N7: Helgmarknad | P7: Andelsjordbruk | R7: Gårdsbutik | U7: Grossist | V7: 0.2
U8: Livsmedelsbutiker | V8: 25% - 50%
B9: Snitt kostnad / enhet | C9: 50 | F9: 2. Välj Konsumentpris eller utpris | H9: Konsumentpris | J9: Konsumentpris | L9: Konsumentpris | N9: Konsumentpris | P9: Din utpris | R9: Konsumentpris
B10: Snitt utpris (ex moms) / enhet | C10: 100 | F10: Pris | H10: 100 | J10: 35 | L10: 35 | N10: 100 | P10: 100 | R10: 100 | U10: Exempel - lokalbutik
H11: =IF(H9='Data Validation'!$B$2,"ex moms","ink moms") -> ink moms | J11: =IF(J9='Data Validation'!$B$2,"ex moms","ink moms") -> ink moms | L11: =IF(L9='Data Validation'!$B$2,"ex moms","ink moms") -> ink moms | N11: =IF(N9='Data Validation'!$B$2,"ex moms","ink moms") -> ink moms | P11: =IF(P9='Data Validation'!$B$2,"ex moms","ink moms") -> ex moms | R11: =IF(R9='Data Validation'!$B$2,"ex moms","ink moms") -> ink moms | U11: - Fryst | V11: 0.27
U12: - Mjölk | V12: 0.17
F13: 3. Välj Markup % eller Margin % (meny) | H13: Margin % | J13: Margin % | L13: Margin % | N13: Margin % | P13: Margin % | R13: Margin % | U13: - Ost | V13: 0.25
F14: Grossist (nolla om ingen) | H14: 0 | J14: 0 | U14: - Snacks | V14: 0.35
F15: Butik (nolla om ingen) | H15: 0.35 | J15: 0.5 | L15: 0.03 | U15: - Tobak | V15: 0.15
B16: Moms | C16: 0.12 | F16: Moms | H16: 0.12 | J16: 0.12 | L16: 0.12 | N16: 0.12 | P16: 0.12 | R16: 0.12 | U16: - Tidningar | V16: 0.23
U17: - Dryck | V17: 0.2
B18: Volym / Enheter | C18: 25000 | F18: 4. Volym / # Enheter | H18: 4000 | J18: 500 | L18: 1000 | P18: 2000 | U18: - Bröd | V18: 0.28
U19: - Frukt & Grönt | V19: 38-50%
F20: 5. Definiera säljkostnader | U20: - Fryst | V20: 0.27
F21: e.g. Frakt | J21: 10000 | L21: 5000 | U21: - Kött & fågel | V21: 13-15%
F22: e.g. Marknadsföring | U22: - Fisk | V22: 0.3
F23: Tid (multiplicera timpris x antal tim) | U23: - Kött (egen styckning) | V23: 0.35
U24: - Bröd | V24: 0.35
F25: Ditt utpris (ex moms) | H25: =IF(H9="Konsumentpris",IF(H13="Markup %",H59,H65),H10) -> 58.035714 | J25: =IF(J9="Konsumentpris",IF(J13="Markup %",J59,J65),J10) -> 15.625 | L25: =IF(L9="Konsumentpris",IF(L13="Markup %",L59,L65),L10) -> 30.3125 | N25: =IF(N9="Konsumentpris",IF(N13="Markup %",N59,N65),N10) -> 89.285714 | P25: =IF(P9="Konsumentpris",IF(P13="Markup %",P59,P65),P10) -> 100 | R25: =IF(R9="Konsumentpris",IF(R13="Markup %",R59,R65),R10) -> 89.285714 | U25: Torr mat
F26: Inpris Butik / Grossistpris | H26: =IF(AND(H14<>"",H14<>0),IF(H9="Konsumentpris",IF(H13="Markup %",H58,H64),IF(H13="Markup %",H44,H50)),"") | J26: =IF(AND(J14<>"",J14<>0),IF(J9="Konsumentpris",IF(J13="Markup %",J58,J64),IF(J13="Markup %",J44,J50)),"") | L26: =IF(AND(L14<>"",L14<>0),IF(L9="Konsumentpris",IF(L13="Markup %",L58,L64),IF(L13="Markup %",L44,L50)),"") | N26: =IF(AND(N14<>"",N14<>0),IF(N9="Konsumentpris",IF(N13="Markup %",N58,N64),IF(N13="Markup %",N44,N50)),"") | P26: =IF(AND(P14<>"",P14<>0),IF(P9="Konsumentpris",IF(P13="Markup %",P58,P64),IF(P13="Markup %",P44,P50)),"") | R26: =IF(AND(R14<>"",R14<>0),IF(R9="Konsumentpris",IF(R13="Markup %",R58,R64),IF(R13="Markup %",R44,R50)),"") | U26: - Mat (pasta, ris) | V26: 0.27
F27: Butikpris (ex moms) | H27: =IF(H9="Konsumentpris",IF(H13="Markup %",H57,H63),IF(H13="Markup %",H45,H51)) -> 89.285714 | J27: =IF(AND(J15<>"",J15<>0),IF(J9="Konsumentpris",IF(J13="Markup %",J57,J63),IF(J13="Markup %",J45,J51)),"") -> 31.25 | L27: =IF(AND(L15<>"",L15<>0),IF(L9="Konsumentpris",IF(L13="Markup %",L57,L63),IF(L13="Markup %",L45,L51)),"") -> 31.25 | N27: =IF(AND(N15<>"",N15<>0),IF(N9="Konsumentpris",IF(N13="Markup %",N57,N63),IF(N13="Markup %",N45,N51)),"") | P27: =IF(AND(P15<>"",P15<>0),IF(P9="Konsumentpris",IF(P13="Markup %",P57,P63),IF(P13="Markup %",P45,P51)),"") | R27: =IF(AND(R15<>"",R15<>0),IF(R9="Konsumentpris",IF(R13="Markup %",R57,R63),IF(R13="Markup %",R45,R51)),"") | U27: - Snacks | V27: 0.35
U28: - Colonial | V28: 0.35
F29: Moms | H29: =IF(H9="Konsumentpris",IF(H13="Markup %",H56,H62),IF(H13="Markup %",H46,H52)) -> 12 | J29: =IF(J9="Konsumentpris",IF(J13="Markup %",J56,J62),IF(J13="Markup %",J46,J52)) -> 4.2 | L29: =IF(L9="Konsumentpris",IF(L13="Markup %",L56,L62),IF(L13="Markup %",L46,L52)) -> 4.2 | N29: =IF(N9="Konsumentpris",IF(N13="Markup %",N56,N62),IF(N13="Markup %",N46,N52)) -> 12 | P29: =IF(P9="Konsumentpris",IF(P13="Markup %",P56,P62),IF(P13="Markup %",P46,P52)) -> 12 | R29: =IF(R9="Konsumentpris",IF(R13="Markup %",R56,R62),IF(R13="Markup %",R46,R52)) -> 12
F30: Konsumentpris (ink moms) | H30: =IF(H9="Konsumentpris",H10,IF(H13="Markup %",H47,H53)) -> 100 | J30: =IF(J9="Konsumentpris",J10,IF(J13="Markup %",J47,J53)) -> 35 | L30: =IF(L9="Konsumentpris",L10,IF(L13="Markup %",L47,L53)) -> 35 | N30: =IF(N9="Konsumentpris",N10,IF(N13="Markup %",N47,N53)) -> 100 | P30: =IF(P9="Konsumentpris",P10,IF(P13="Markup %",P47,P53)) -> 112 | R30: =IF(R9="Konsumentpris",R10,IF(R13="Markup %",R47,R53)) -> 100
U31: Total
B32: Din omsättning (ex moms) | C32: =C10*C18 -> 2500000 | F32: Din omstättning | H32: =H18*H25 -> 232142.86 | J32: =J18*J25 -> 7812.5 | L32: =L18*L25 -> 30312.5 | N32: =N18*N25 -> 0 | P32: =P18*P25 -> 200000 | R32: =R18*R25 -> 0 | U32: =SUM(H32:R32) -> 470267.86
F33: Din bruttoresultat | H33: =H32-(H18*$C$9)-SUM(H21:H23) -> 32142.857 | J33: =J32-(J18*$C$9)-SUM(J21:J23) -> -27187.5 | L33: =L32-(L18*$C$9)-SUM(L21:L23) -> -24687.5 | N33: =N32-(N18*$C$9)-SUM(N21:N23) -> 0 | P33: =P32-(P18*$C$9)-SUM(P21:P23) -> 100000 | R33: =R32-(R18*$C$9)-SUM(R21:R23) -> 0 | U33: =SUM(H33:R33) -> 80267.857
F34: Brutto lönsamhet | H34: =IF(ISERROR(H33/H32),"",H33/H32) -> 0.13846154 | J34: =IF(ISERROR(J33/J32),"",J33/J32) -> -3.48 | L34: =IF(ISERROR(L33/L32),"",L33/L32) -> -0.81443299 | N34: =IF(ISERROR(N33/N32),"",N33/N32) | P34: =IF(ISERROR(P33/P32),"",P33/P32) -> 0.5 | R34: =IF(ISERROR(R33/R32),"",R33/R32) | U34: =IF(ISERROR(U33/U32),"",U33/U32) -> 0.1706854
F36: Hur mycket tjänar Grossisten? | H36: =IF(AND(H14<>"",H14<>0),((H18*H26)-(H18*H25)),"") | J36: =IF(AND(J14<>"",J14<>0),((J18*J26)-(J18*J25)),"") | K36: =IF(AND(K14<>"",K14<>0),((K18*K26)-(K18*K25)),"") | L36: =IF(AND(L14<>"",L14<>0),((L18*L26)-(L18*L25)),"") | N36: =IF(AND(N14<>"",N14<>0),((N18*N26)-(N18*N25)),"") | P36: =IF(AND(P14<>"",P14<>0),((P18*P26)-(P18*P25)),"") | R36: =IF(AND(R14<>"",R14<>0),((R18*R26)-(R18*R25)),"")
F37: Hur mycket tjänar Butiken? | H37: =IF(AND(H15<>"",H15<>0),IF(OR(H14="",H14=0),(H18*H27)-(H18*H25),((H18*H27)-(H18*H26))),"") -> 125000 | I37: =IF(AND(I15<>"",I15<>0),IF(OR(I14="",I14=0),(I18*I27)-(I18*I25),((I18*I27)-(I18*I26))),"") | J37: =IF(AND(J15<>"",J15<>0),IF(OR(J14="",J14=0),(J18*J27)-(J18*J25),((J18*J27)-(J18*J26))),"") -> 7812.5 | K37: =IF(AND(K15<>"",K15<>0),IF(OR(K14="",K14=0),(K18*K27)-(K18*K25),((K18*K27)-(K18*K26))),"") | L37: =IF(AND(L15<>"",L15<>0),IF(OR(L14="",L14=0),(L18*L27)-(L18*L25),((L18*L27)-(L18*L26))),"") -> 937.5 | M37: =IF(AND(M15<>"",M15<>0),IF(OR(M14="",M14=0),(M18*M27)-(M18*M25),((M18*M27)-(M18*M26))),"") | N37: =IF(AND(N15<>"",N15<>0),IF(OR(N14="",N14=0),(N18*N27)-(N18*N25),((N18*N27)-(N18*N26))),"") | O37: =IF(AND(O15<>"",O15<>0),IF(OR(O14="",O14=0),(O18*O27)-(O18*O25),((O18*O27)-(O18*O26))),"") | ... R37: =IF(AND(R15<>"",R15<>0),IF(OR(R14="",R14=0),(R18*R27)-(R18*R25),((R18*R27)-(R18*R26))),"")
F43: Utpris calc | H43: Markup model | J43: Markup model | L43: Markup model | N43: Markup model | P43: Markup model | R43: Markup model
F44: Grossist | H44: =H10*(1+H14) -> 100 | J44: =J10*(1+J14) -> 35 | L44: =L10*(1+L14) -> 35 | N44: =N10*(1+N14) -> 100 | P44: =P10*(1+P14) -> 100 | R44: =R10*(1+R14) -> 100
F45: Butik | H45: =H44*(1+H15) -> 135 | J45: =J44*(1+J15) -> 52.5 | L45: =L44*(1+L15) -> 36.05 | N45: =N44*(1+N15) -> 100 | P45: =P44*(1+P15) -> 100 | R45: =R44*(1+R15) -> 100
F46: Moms | H46: =H45*H16 -> 16.2 | J46: =J45*J16 -> 6.3 | L46: =L45*L16 -> 4.326 | N46: =N45*N16 -> 12 | P46: =P45*P16 -> 12 | R46: =R45*R16 -> 12
F47: Konsumentpris | H47: =H45*(1+H16) -> 151.2 | J47: =J45*(1+J16) -> 58.8 | L47: =L45*(1+L16) -> 40.376 | N47: =N45*(1+N16) -> 112 | P47: =P45*(1+P16) -> 112 | R47: =R45*(1+R16) -> 112
F49: Utpris calc | H49: Margin model | J49: Margin model | L49: Margin model | N49: Margin model | P49: Margin model | R49: Margin model
F50: Grossist | H50: =H10/(1-H14) -> 100 | J50: =J10/(1-J14) -> 35 | L50: =L10/(1-L14) -> 35 | N50: =N10/(1-N14) -> 100 | P50: =P10/(1-P14) -> 100 | R50: =R10/(1-R14) -> 100
F51: Butik | H51: =H50/(1-H15) -> 153.84615 | J51: =J50/(1-J15) -> 70 | L51: =L50/(1-L15) -> 36.082474 | N51: =N50/(1-N15) -> 100 | P51: =P50/(1-P15) -> 100 | R51: =R50/(1-R15) -> 100
F52: Moms | H52: =H51*H16 -> 18.461538 | J52: =J51*J16 -> 8.4 | L52: =L51*L16 -> 4.3298969 | N52: =N51*N16 -> 12 | P52: =P51*P16 -> 12 | R52: =R51*R16 -> 12
F53: Konsumentpris | H53: =H51*(1+H16) -> 172.30769 | J53: =J51*(1+J16) -> 78.4 | L53: =L51*(1+L16) -> 40.412371 | N53: =N51*(1+N16) -> 112 | P53: =P51*(1+P16) -> 112 | R53: =R51*(1+R16) -> 112
F55: Konsumentpris calc | H55: Markup model | J55: Markup model | L55: Markup model | N55: Markup model | P55: Markup model | R55: Markup model
F56: Moms | H56: =H10*H16 -> 12 | J56: =J10*J16 -> 4.2 | L56: =L10*L16 -> 4.2 | N56: =N10*N16 -> 12 | P56: =P10*P16 -> 12 | R56: =R10*R16 -> 12
F57: Butik | H57: =H10/(1+H16) -> 89.285714 | J57: =J10/(1+J16) -> 31.25 | L57: =L10/(1+L16) -> 31.25 | N57: =N10/(1+N16) -> 89.285714 | P57: =P10/(1+P16) -> 89.285714 | R57: =R10/(1+R16) -> 89.285714
F58: Grossist | H58: =H57/(1+H15) -> 66.137566 | J58: =J57/(1+J15) -> 20.833333 | L58: =L57/(1+L15) -> 30.339806 | N58: =N57/(1+N15) -> 89.285714 | P58: =P57/(1+P15) -> 89.285714 | R58: =R57/(1+R15) -> 89.285714
F59: Din utpris | H59: =H58/(1+H14) -> 66.137566 | J59: =J58/(1+J14) -> 20.833333 | L59: =L58/(1+L14) -> 30.339806 | N59: =N58/(1+N14) -> 89.285714 | P59: =P58/(1+P14) -> 89.285714 | R59: =R58/(1+R14) -> 89.285714
F61: Konsumentpris calc | H61: Margin model | J61: Margin model | L61: Margin model | N61: Margin model | P61: Margin model | R61: Margin model
F62: Moms | H62: =H16*H10 -> 12 | J62: =J16*J10 -> 4.2 | L62: =L16*L10 -> 4.2 | N62: =N16*N10 -> 12 | P62: =P16*P10 -> 12 | R62: =R16*R10 -> 12
F63: Butik | H63: =H10/(1+H16) -> 89.285714 | J63: =J10/(1+J16) -> 31.25 | L63: =L10/(1+L16) -> 31.25 | N63: =N10/(1+N16) -> 89.285714 | P63: =P10/(1+P16) -> 89.285714 | R63: =R10/(1+R16) -> 89.285714
F64: Grossist | H64: =H63*(1-H15) -> 58.035714 | J64: =J63*(1-J15) -> 15.625 | L64: =L63*(1-L15) -> 30.3125 | N64: =N63*(1-N15) -> 89.285714 | P64: =P63*(1-P15) -> 89.285714 | R64: =R63*(1-R15) -> 89.285714
F65: Din utpris | H65: =H64*(1-H14) -> 58.035714 | J65: =J64*(1-J14) -> 15.625 | L65: =L64*(1-L14) -> 30.3125 | N65: =N64*(1-N14) -> 89.285714 | P65: =P64*(1-P14) -> 89.285714 | R65: =R64*(1-R14) -> 89.285714

Sheet Data Validation
B2: Din utpris
B3: Konsumentpris
B5: Markup %
B6: Margin %
